BEGIN:VCALENDAR
VERSION:2.0
PRODID:-//Circolo Fantoni - ECPv4.8.1//NONSGML v1.0//EN
CALSCALE:GREGORIAN
METHOD:PUBLISH
X-WR-CALNAME:Circolo Fantoni
X-ORIGINAL-URL:https://fantoniweb.it
X-WR-CALDESC:Eventi per Circolo Fantoni
BEGIN:VEVENT
DTSTART;TZID=UTC+1:20260412T080000
DTEND;TZID=UTC+1:20260412T170000
DTSTAMP:20260425T131135
CREATED:20260223T154540Z
LAST-MODIFIED:20260223T154919Z
UID:1561-1775980800-1776013200@fantoniweb.it
SUMMARY:UNA MOSTRA IMPERDIBILE A fIRENZE
DESCRIPTION: \n
URL:https://fantoniweb.it/evento/una-mostra-imperdibile-a-firenze/
CATEGORIES:Viaggi
ATTACH;FMTTYPE=image/png:https://fantoniweb.it/wp-content/uploads/2026/02/rothcko-sito.png
ORGANIZER;CN="Fantoni%20Associazione%20Culturale":MAILTO:direzione@fantoniweb.it
END:VEVENT
END:VCALENDAR