BEGIN:VCALENDAR
VERSION:2.0
PRODID:-//Circolo Fantoni - ECPv4.8.1//NONSGML v1.0//EN
CALSCALE:GREGORIAN
METHOD:PUBLISH
X-WR-CALNAME:Circolo Fantoni
X-ORIGINAL-URL:https://fantoniweb.it
X-WR-CALDESC:Eventi per Circolo Fantoni
BEGIN:VEVENT
DTSTART;TZID=UTC+1:20250126T180000
DTEND;TZID=UTC+1:20250126T200000
DTSTAMP:20260426T042615
CREATED:20250114T120425Z
LAST-MODIFIED:20250123T133505Z
UID:1204-1737914400-1737921600@fantoniweb.it
SUMMARY:The Lonesome Road
DESCRIPTION:
URL:https://fantoniweb.it/evento/the-lonesome-road/
LOCATION:Fantoni\, Galleria Adamello 31\, La Spezia\, 19124\, Italy
CATEGORIES:Eventi,Il Circolo
ATTACH;FMTTYPE=image/jpeg:https://fantoniweb.it/wp-content/uploads/2025/01/folk_page-0001.jpg
ORGANIZER;CN="Fantoni%20Associazione%20Culturale":MAILTO:direzione@fantoniweb.it
END:VEVENT
END:VCALENDAR