BEGIN:VCALENDAR
VERSION:2.0
PRODID:-//Circolo Fantoni - ECPv4.8.1//NONSGML v1.0//EN
CALSCALE:GREGORIAN
METHOD:PUBLISH
X-WR-CALNAME:Circolo Fantoni
X-ORIGINAL-URL:https://fantoniweb.it
X-WR-CALDESC:Eventi per Circolo Fantoni
BEGIN:VEVENT
DTSTART;TZID=UTC+1:20260225T173000
DTEND;TZID=UTC+1:20260225T193000
DTSTAMP:20260425T131352
CREATED:20260223T155821Z
LAST-MODIFIED:20260223T155821Z
UID:1571-1772040600-1772047800@fantoniweb.it
SUMMARY:STORIA\, COSTITUZIONE\, GIUSTIZIA
DESCRIPTION:
URL:https://fantoniweb.it/evento/storia-costituzione-giustizia/
LOCATION:Fantoni\, Galleria Adamello 31\, La Spezia\, 19124\, Italy
CATEGORIES:Eventi,Il Circolo
ATTACH;FMTTYPE=image/png:https://fantoniweb.it/wp-content/uploads/2026/02/quber-sito.png
ORGANIZER;CN="Fantoni%20Associazione%20Culturale":MAILTO:direzione@fantoniweb.it
END:VEVENT
END:VCALENDAR