BEGIN:VCALENDAR
VERSION:2.0
PRODID:-//Circolo Fantoni - ECPv4.8.1//NONSGML v1.0//EN
CALSCALE:GREGORIAN
METHOD:PUBLISH
X-WR-CALNAME:Circolo Fantoni
X-ORIGINAL-URL:https://fantoniweb.it
X-WR-CALDESC:Eventi per Circolo Fantoni
BEGIN:VEVENT
DTSTART;TZID=UTC+1:20250308T200000
DTEND;TZID=UTC+1:20250308T230000
DTSTAMP:20260426T023223
CREATED:20250217T170249Z
LAST-MODIFIED:20250217T170249Z
UID:1318-1741464000-1741474800@fantoniweb.it
SUMMARY:SI\, VIAGGIARE
DESCRIPTION:
URL:https://fantoniweb.it/evento/si-viaggiare/
LOCATION:Fantoni\, Galleria Adamello 31\, La Spezia\, 19124\, Italy
CATEGORIES:Eventi,Il Circolo
ATTACH;FMTTYPE=image/jpeg:https://fantoniweb.it/wp-content/uploads/2025/02/BATTISTI.jpg
ORGANIZER;CN="Fantoni%20Associazione%20Culturale":MAILTO:direzione@fantoniweb.it
END:VEVENT
END:VCALENDAR