BEGIN:VCALENDAR
VERSION:2.0
PRODID:-//Circolo Fantoni - ECPv4.8.1//NONSGML v1.0//EN
CALSCALE:GREGORIAN
METHOD:PUBLISH
X-WR-CALNAME:Circolo Fantoni
X-ORIGINAL-URL:https://fantoniweb.it
X-WR-CALDESC:Eventi per Circolo Fantoni
BEGIN:VEVENT
DTSTART;TZID=UTC+1:20250509T160000
DTEND;TZID=UTC+1:20250509T233000
DTSTAMP:20260425T234124
CREATED:20250123T134214Z
LAST-MODIFIED:20250123T134214Z
UID:1250-1746806400-1746833400@fantoniweb.it
SUMMARY:Roberto Bolle al Maggio Musicale
DESCRIPTION:Roberto Bolle torna al Teatro del Maggio con “Caravaggio”: un capolavoro di danza\, firmato dal geniale coreografo Mauro Bigonzetti al debutto in Italia\, e un viaggio emozionante nell’animo inquieto e geniale di un artista immortale . \nUno spettacolo potente e viscerale ispirato alla vita e alle opere di Michelangelo Merisi\, che trasforma in movimento la drammaticità e la teatralità rivoluzionarie del grande pittore. \nProtagonista assoluto l’Étoile internazionale\, affiancato da un cast di straordinari talenti e da una compagnia creata ad hoc. Con le musiche di Claudio Monteverdi\, riorchestrate da Bruno Moretti\, e una suggestiva scenografia di Carlo Cerri. \nProgramma: \nRitrovo dei partecipanti nel pomeriggio alla Spezia e partenza in pullman per Firenze. All’arrivo\, ingresso a teatro per assistere allo spettacolo. Al termine partenza in pullman per il rientro alla Spezia \n
URL:https://fantoniweb.it/evento/roberto-bolle-al-maggio-musicale/
CATEGORIES:Eventi,Viaggi
ATTACH;FMTTYPE=image/jpeg:https://fantoniweb.it/wp-content/uploads/2025/01/bolle.jpg
ORGANIZER;CN="Fantoni%20Associazione%20Culturale":MAILTO:direzione@fantoniweb.it
END:VEVENT
END:VCALENDAR