BEGIN:VCALENDAR
VERSION:2.0
PRODID:-//Circolo Fantoni - ECPv4.8.1//NONSGML v1.0//EN
CALSCALE:GREGORIAN
METHOD:PUBLISH
X-WR-CALNAME:Circolo Fantoni
X-ORIGINAL-URL:https://fantoniweb.it
X-WR-CALDESC:Eventi per Circolo Fantoni
BEGIN:VEVENT
DTSTART;TZID=UTC+1:20250417T180000
DTEND;TZID=UTC+1:20250417T193000
DTSTAMP:20260426T023237
CREATED:20250326T141856Z
LAST-MODIFIED:20250326T141857Z
UID:1361-1744912800-1744918200@fantoniweb.it
SUMMARY:Parliamo di Musica
DESCRIPTION:
URL:https://fantoniweb.it/evento/parliamo-di-musica/
LOCATION:Fantoni\, Galleria Adamello 31\, La Spezia\, 19124\, Italy
CATEGORIES:Eventi,Il Circolo
ATTACH;FMTTYPE=image/jpeg:https://fantoniweb.it/wp-content/uploads/2025/03/RAVEL_page-0001.jpg
ORGANIZER;CN="Fantoni%20Associazione%20Culturale":MAILTO:direzione@fantoniweb.it
END:VEVENT
END:VCALENDAR