BEGIN:VCALENDAR
VERSION:2.0
PRODID:-//Circolo Fantoni - ECPv4.8.1//NONSGML v1.0//EN
CALSCALE:GREGORIAN
METHOD:PUBLISH
X-WR-CALNAME:Circolo Fantoni
X-ORIGINAL-URL:https://fantoniweb.it
X-WR-CALDESC:Eventi per Circolo Fantoni
BEGIN:VEVENT
DTSTART;TZID=UTC+1:20250626T183000
DTEND;TZID=UTC+1:20250626T203000
DTSTAMP:20260426T040214
CREATED:20250607T124717Z
LAST-MODIFIED:20250607T124717Z
UID:1416-1750962600-1750969800@fantoniweb.it
SUMMARY:Parliamo di Musica
DESCRIPTION:
URL:https://fantoniweb.it/evento/parliamo-di-musica-2/
LOCATION:Fantoni\, Galleria Adamello 31\, La Spezia\, 19124\, Italy
CATEGORIES:Eventi,Il Circolo
ATTACH;FMTTYPE=image/png:https://fantoniweb.it/wp-content/uploads/2025/06/ULLMANN_page-0001.png
ORGANIZER;CN="Fantoni%20Associazione%20Culturale":MAILTO:direzione@fantoniweb.it
END:VEVENT
END:VCALENDAR