BEGIN:VCALENDAR
VERSION:2.0
PRODID:-//Circolo Fantoni - ECPv4.8.1//NONSGML v1.0//EN
CALSCALE:GREGORIAN
METHOD:PUBLISH
X-WR-CALNAME:Circolo Fantoni
X-ORIGINAL-URL:https://fantoniweb.it
X-WR-CALDESC:Eventi per Circolo Fantoni
BEGIN:VEVENT
DTSTART;TZID=UTC+1:20250128T180000
DTEND;TZID=UTC+1:20250128T200000
DTSTAMP:20260426T042744
CREATED:20250113T165508Z
LAST-MODIFIED:20250114T115043Z
UID:1186-1738087200-1738094400@fantoniweb.it
SUMMARY:Incontro con l'artista
DESCRIPTION: \n
URL:https://fantoniweb.it/evento/incontro-con-lartista/
CATEGORIES:Eventi,Il Circolo
ATTACH;FMTTYPE=image/jpeg:https://fantoniweb.it/wp-content/uploads/2025/01/cimino1.jpg
ORGANIZER;CN="Fantoni%20Associazione%20Culturale":MAILTO:direzione@fantoniweb.it
END:VEVENT
END:VCALENDAR