BEGIN:VCALENDAR
VERSION:2.0
PRODID:-//Circolo Fantoni - ECPv4.8.1//NONSGML v1.0//EN
CALSCALE:GREGORIAN
METHOD:PUBLISH
X-WR-CALNAME:Circolo Fantoni
X-ORIGINAL-URL:https://fantoniweb.it
X-WR-CALDESC:Eventi per Circolo Fantoni
BEGIN:VEVENT
DTSTART;TZID=UTC+1:20250614T180000
DTEND;TZID=UTC+1:20250614T190000
DTSTAMP:20260426T040826
CREATED:20250607T130421Z
LAST-MODIFIED:20250607T130421Z
UID:1425-1749924000-1749927600@fantoniweb.it
SUMMARY:Gianluca Lepore - Concerto per pianoforte
DESCRIPTION:
URL:https://fantoniweb.it/evento/gianluca-lepore-concerto-per-pianoforte/
LOCATION:Fantoni\, Galleria Adamello 31\, La Spezia\, 19124\, Italy
CATEGORIES:Eventi,Il Circolo
ATTACH;FMTTYPE=image/png:https://fantoniweb.it/wp-content/uploads/2025/06/LocandinaA5GianlucaLepore.png
ORGANIZER;CN="Fantoni%20Associazione%20Culturale":MAILTO:direzione@fantoniweb.it
END:VEVENT
END:VCALENDAR