BEGIN:VCALENDAR
VERSION:2.0
PRODID:-//Circolo Fantoni - ECPv4.8.1//NONSGML v1.0//EN
CALSCALE:GREGORIAN
METHOD:PUBLISH
X-WR-CALNAME:Circolo Fantoni
X-ORIGINAL-URL:https://fantoniweb.it
X-WR-CALDESC:Eventi per Circolo Fantoni
BEGIN:VEVENT
DTSTART;TZID=UTC+1:20260128T173000
DTEND;TZID=UTC+1:20260128T190000
DTSTAMP:20260425T144926
CREATED:20260124T153137Z
LAST-MODIFIED:20260124T153137Z
UID:1545-1769621400-1769626800@fantoniweb.it
SUMMARY:FRANZ LISZT\, il costruttore
DESCRIPTION:
URL:https://fantoniweb.it/evento/franz-liszt-il-costruttore/
LOCATION:Fantoni\, Galleria Adamello 31\, La Spezia\, 19124\, Italy
CATEGORIES:Eventi,Il Circolo
ATTACH;FMTTYPE=image/png:https://fantoniweb.it/wp-content/uploads/2026/01/LISZT.png
ORGANIZER;CN="Fantoni%20Associazione%20Culturale":MAILTO:direzione@fantoniweb.it
END:VEVENT
END:VCALENDAR