BEGIN:VCALENDAR
VERSION:2.0
PRODID:-//Circolo Fantoni - ECPv4.8.1//NONSGML v1.0//EN
CALSCALE:GREGORIAN
METHOD:PUBLISH
X-WR-CALNAME:Circolo Fantoni
X-ORIGINAL-URL:https://fantoniweb.it
X-WR-CALDESC:Eventi per Circolo Fantoni
BEGIN:VEVENT
DTSTART;TZID=UTC+1:20251018T180000
DTEND;TZID=UTC+1:20251108T200000
DTSTAMP:20260425T162050
CREATED:20251014T160343Z
LAST-MODIFIED:20251014T160344Z
UID:1525-1760810400-1762632000@fantoniweb.it
SUMMARY:FABRIZIO PLESSI una mostra al Fantoni
DESCRIPTION:
URL:https://fantoniweb.it/evento/fabrizio-plessi-una-mostra-al-fantoni/
LOCATION:Fantoni\, Galleria Adamello 31\, La Spezia\, 19124\, Italy
CATEGORIES:Il Circolo
ATTACH;FMTTYPE=image/png:https://fantoniweb.it/wp-content/uploads/2025/10/plesi-sito.png
ORGANIZER;CN="Fantoni%20Associazione%20Culturale":MAILTO:direzione@fantoniweb.it
END:VEVENT
END:VCALENDAR