BEGIN:VCALENDAR
VERSION:2.0
PRODID:-//Circolo Fantoni - ECPv4.8.1//NONSGML v1.0//EN
CALSCALE:GREGORIAN
METHOD:PUBLISH
X-WR-CALNAME:Circolo Fantoni
X-ORIGINAL-URL:https://fantoniweb.it
X-WR-CALDESC:Eventi per Circolo Fantoni
BEGIN:VEVENT
DTSTART;TZID=UTC+1:20260129T200000
DTEND;TZID=UTC+1:20260129T230000
DTSTAMP:20260425T145524
CREATED:20260124T141500Z
LAST-MODIFIED:20260124T141500Z
UID:1529-1769716800-1769727600@fantoniweb.it
SUMMARY:CONTROCORRENTE AL FANTONI
DESCRIPTION:
URL:https://fantoniweb.it/evento/controcorrente-al-fantoni/
LOCATION:Fantoni\, Galleria Adamello 31\, La Spezia\, 19124\, Italy
CATEGORIES:Eventi,Il Circolo
ATTACH;FMTTYPE=image/jpeg:https://fantoniweb.it/wp-content/uploads/2026/01/controccorrente.jpg
ORGANIZER;CN="Fantoni%20Associazione%20Culturale":MAILTO:direzione@fantoniweb.it
END:VEVENT
END:VCALENDAR