BEGIN:VCALENDAR
VERSION:2.0
PRODID:-//Circolo Fantoni - ECPv4.8.1//NONSGML v1.0//EN
CALSCALE:GREGORIAN
METHOD:PUBLISH
X-WR-CALNAME:Circolo Fantoni
X-ORIGINAL-URL:https://fantoniweb.it
X-WR-CALDESC:Eventi per Circolo Fantoni
BEGIN:VEVENT
DTSTART;TZID=UTC+1:20251106T200000
DTEND;TZID=UTC+1:20251106T233000
DTSTAMP:20260425T203605
CREATED:20250924T140839Z
LAST-MODIFIED:20250924T140840Z
UID:1479-1762459200-1762471800@fantoniweb.it
SUMMARY:Codeglie e Mioli suonanao Battisti
DESCRIPTION:
URL:https://fantoniweb.it/evento/codeglie-e-mioli-suonanao-battisti/
LOCATION:Fantoni\, Galleria Adamello 31\, La Spezia\, 19124\, Italy
CATEGORIES:Eventi,Il Circolo
ATTACH;FMTTYPE=image/png:https://fantoniweb.it/wp-content/uploads/2025/09/6-novembre.png
ORGANIZER;CN="Fantoni%20Associazione%20Culturale":MAILTO:direzione@fantoniweb.it
END:VEVENT
END:VCALENDAR