BEGIN:VCALENDAR
VERSION:2.0
PRODID:-//Circolo Fantoni - ECPv4.8.1//NONSGML v1.0//EN
CALSCALE:GREGORIAN
METHOD:PUBLISH
X-WR-CALNAME:Circolo Fantoni
X-ORIGINAL-URL:https://fantoniweb.it
X-WR-CALDESC:Eventi per Circolo Fantoni
BEGIN:VEVENT
DTSTART;TZID=UTC+1:20250511T080000
DTEND;TZID=UTC+1:20250511T213000
DTSTAMP:20260426T012610
CREATED:20250415T140258Z
LAST-MODIFIED:20250415T140258Z
UID:1381-1746950400-1746999000@fantoniweb.it
SUMMARY:CARAVAGGIO500
DESCRIPTION:
URL:https://fantoniweb.it/evento/caravaggio500/
CATEGORIES:Viaggi
ATTACH;FMTTYPE=image/png:https://fantoniweb.it/wp-content/uploads/2025/04/correggio-500-SITO.png
ORGANIZER;CN="Fantoni%20Associazione%20Culturale":MAILTO:direzione@fantoniweb.it
END:VEVENT
END:VCALENDAR