BEGIN:VCALENDAR
VERSION:2.0
PRODID:-//Circolo Fantoni - ECPv4.8.1//NONSGML v1.0//EN
CALSCALE:GREGORIAN
METHOD:PUBLISH
X-WR-CALNAME:Circolo Fantoni
X-ORIGINAL-URL:https://fantoniweb.it
X-WR-CALDESC:Eventi per Circolo Fantoni
BEGIN:VEVENT
DTSTART;TZID=UTC+1:20250320T060000
DTEND;TZID=UTC+1:20250320T233000
DTSTAMP:20260426T040214
CREATED:20250131T151337Z
LAST-MODIFIED:20250131T151337Z
UID:1287-1742450400-1742513400@fantoniweb.it
SUMMARY:CARAVAGGIO 2025
DESCRIPTION:PROGRAMMA:\nRitrovo dei partecipanti alla Stazione FS della Spezia Centrale e partenza in treno verso Roma. All’arrivo trasferimento a Palazzo Barberini. Ingresso riservato alla mostra e visita guidata. Al termine della visita pranzo libero e pomeriggio a disposizione per visite individuali. Nel tardo pomeriggio ritrovo dei partecipanti e partenza in treno per il rientro alla Spezia.\nQuota di partecipazione: € 110 (soci) – € 125 (ospiti)\nLa quota comprende: Viaggio a/r in treno Freccia\, ingresso alla Palazzo Barberini\, visita guidata della mostra Caravaggio\, ns. assistenza.\nInfo & prenotazioni:\nFantoni Associazione Culturale – La Spezia – Galleria Adamello 31 – Tel. 01871780909 – cell. 3405839502 \n
URL:https://fantoniweb.it/evento/caravaggio-2025/
CATEGORIES:Eventi,Viaggi
ATTACH;FMTTYPE=image/jpeg:https://fantoniweb.it/wp-content/uploads/2025/01/foto-caravaggio.jpg
ORGANIZER;CN="Fantoni%20Associazione%20Culturale":MAILTO:direzione@fantoniweb.it
END:VEVENT
END:VCALENDAR