BEGIN:VCALENDAR
VERSION:2.0
PRODID:-//Circolo Fantoni - ECPv4.8.1//NONSGML v1.0//EN
CALSCALE:GREGORIAN
METHOD:PUBLISH
X-WR-CALNAME:Circolo Fantoni
X-ORIGINAL-URL:https://fantoniweb.it
X-WR-CALDESC:Eventi per Circolo Fantoni
BEGIN:VEVENT
DTSTART;TZID=UTC+1:20250719T180000
DTEND;TZID=UTC+1:20250719T233000
DTSTAMP:20260426T040540
CREATED:20250512T141142Z
LAST-MODIFIED:20250607T123133Z
UID:1400-1752948000-1752967800@fantoniweb.it
SUMMARY:Bohème al Festival Puccini
DESCRIPTION: \n
URL:https://fantoniweb.it/evento/boheme-al-festival-puccini/
CATEGORIES:Eventi,Viaggi
ATTACH;FMTTYPE=image/png:https://fantoniweb.it/wp-content/uploads/2025/05/boheme-sito.png
ORGANIZER;CN="Fantoni%20Associazione%20Culturale":MAILTO:direzione@fantoniweb.it
END:VEVENT
END:VCALENDAR