BEGIN:VCALENDAR
VERSION:2.0
PRODID:-//Circolo Fantoni - ECPv4.8.1//NONSGML v1.0//EN
CALSCALE:GREGORIAN
METHOD:PUBLISH
X-WR-CALNAME:Circolo Fantoni
X-ORIGINAL-URL:https://fantoniweb.it
X-WR-CALDESC:Eventi per Circolo Fantoni
BEGIN:VEVENT
DTSTART;TZID=UTC+1:20250627T183000
DTEND;TZID=UTC+1:20250627T200000
DTSTAMP:20260426T023237
CREATED:20250607T125424Z
LAST-MODIFIED:20250607T125801Z
UID:1420-1751049000-1751054400@fantoniweb.it
SUMMARY:Bambini in Ostaggio
DESCRIPTION:
URL:https://fantoniweb.it/evento/bambini-in-ostaggio/
LOCATION:Fantoni\, Galleria Adamello 31\, La Spezia\, 19124\, Italy
CATEGORIES:Eventi,Il Circolo
ATTACH;FMTTYPE=image/png:https://fantoniweb.it/wp-content/uploads/2025/06/bambini-1.png
ORGANIZER;CN="Fantoni%20Associazione%20Culturale":MAILTO:direzione@fantoniweb.it
END:VEVENT
END:VCALENDAR