BEGIN:VCALENDAR
VERSION:2.0
PRODID:-//Circolo Fantoni - ECPv4.8.1//NONSGML v1.0//EN
CALSCALE:GREGORIAN
METHOD:PUBLISH
X-WR-CALNAME:Circolo Fantoni
X-ORIGINAL-URL:https://fantoniweb.it
X-WR-CALDESC:Eventi per Circolo Fantoni
BEGIN:VEVENT
DTSTART;TZID=UTC+1:20250215T180000
DTEND;TZID=UTC+1:20250215T200000
DTSTAMP:20260426T024945
CREATED:20250204T173627Z
LAST-MODIFIED:20250204T173627Z
UID:1302-1739642400-1739649600@fantoniweb.it
SUMMARY:a Febbraio si legge
DESCRIPTION:Margherita Gobbi e Coalberto Testa ospiti al Fantoni per presentare i loro ultimi libri. \nDialoga con gli scrittori: Gabriella Tartarini \nAl termine della presentazione seguirà aperitivo/buffet \n
URL:https://fantoniweb.it/evento/a-febbraio-si-legge-2/
LOCATION:Fantoni\, Galleria Adamello 31\, La Spezia\, 19124\, Italy
CATEGORIES:Eventi,Il Circolo
ATTACH;FMTTYPE=image/jpeg:https://fantoniweb.it/wp-content/uploads/2025/02/presentazione-gobbi-1.jpg
ORGANIZER;CN="Fantoni%20Associazione%20Culturale":MAILTO:direzione@fantoniweb.it
END:VEVENT
END:VCALENDAR