BEGIN:VCALENDAR
VERSION:2.0
PRODID:-//Circolo Fantoni - ECPv4.8.1//NONSGML v1.0//EN
CALSCALE:GREGORIAN
METHOD:PUBLISH
X-WR-CALNAME:Circolo Fantoni
X-ORIGINAL-URL:https://fantoniweb.it
X-WR-CALDESC:Eventi per Circolo Fantoni
BEGIN:VEVENT
DTSTART;TZID=UTC+1:20260621T080000
DTEND;TZID=UTC+1:20260628T170000
DTSTAMP:20260425T191623
CREATED:20260124T155915Z
LAST-MODIFIED:20260124T155916Z
UID:1553-1782028800-1782666000@fantoniweb.it
SUMMARY:Ischia\, Capri e Procida
DESCRIPTION:21 GIUGNO – ARRIVO / ISCHIA: Partenza dalla Spezia in treno. Arrivo a Napoli e trasferimento in hotel a Ischia e sistemazione in hotel Assegnazione delle camere\, cena e pernottamento. \n22 GIUGNO – ISCHIA / GIRO DELL’ISOLA IN BUS: Prima colazione in hotel. Mattinata libera dedicata al sole\, al mare\, allo shopping ed eventuali cure. In pomeriggio visita con bus/minibus di Ischia per scoprirne i sei comuni. Soste negli angoli più suggestivi e caratteristici dell’isola per ammirare stupendi panorami ed incantevoli borghi. Rientro in hotel. Cena e pernottamento. \n23 GIUGNO – PROCIDA: Prima colazione in hotel. Mattinata libera dedicata al sole\, al mare e allo shopping ed eventuali cure. Nel primo pomeriggio prelevamento in hotel ed imbarco per Procida\, la più piccola delle isole dell’arcipelago campano. Vulcanica\, frastagliata\, con coste alte e ripide. Tempo libero a disposizione. Rientro in hotel. Cena e pernottamento. \n24 GIUGNO -ISCHIA / GIRO DELL’ISOLA IN BARCA: Prima colazione in hotel. Mattinata libera dedicata al sole\, al mare e allo shopping ed eventuali cure. Nel primo pomeriggio prelevamento in hotel e giro dell’isola in barca per ammirare da mare le bellezze di Ischia\, tra cui la spiaggia dei Maronti\, la favolosa baia di San Pancrazio con la sua Grotta Verde\, la baia di Cartaromana con gli scogli di Sant’Anna\, la torre di Michelangelo e lo storico Castello Aragonese; un giro dell’isola insomma che vi regalerà intense sensazioni! Prevista sosta nel pittoresco borgo di Sant’Angelo. Rientro in hotel\, cena e pernottamento. \n25 GIUGNO – CAPRI: Prima colazione e prelevamento in hotel e imbarco per Capri. Tempo libero a disposizione. Ritrovo dei partecipanti all’imbarco e rientro in hotel. Cena e pernottamento. \n26 GIUGNO – ISCHIA: Prima colazione in hotel. Giornata libera dedicata al sole\, al mare e allo shopping ed eventuali cure. Cena e pernottamento in hotel. \n27 GIUGNO – ISCHIA : Prima colazione in hotel. Giornata libera dedicata al sole\, al mare e allo shopping ed eventuali cure. Cena e pernottamento in hotel. \n28 GIUGNO -ISCHIA / PARTENZA: Prima colazione in hotel e trasferimento alla Stazione di Napoli per la partenza con treno per La Spezia. Arrivo alla Spezia in serata. \n  \nQuota di partecipazione: € 965 \nLA QUOTA COMPRENDE: Viaggio a/r da la Spezia ad Ischia\,  Sistemazione in hotel 4 stelle (zona Ischia Porto\, Hotel San Valentino o similare) in camera standard \,  Trattamento alberghiero di MEZZA PENSIONE (prima colazione e cena con inclusi ¼ vino + ½ minerale ai pasti principali in hotel)\, Escursioni descritte nel programma comprensive di trasferimenti A/R\, passaggi marittimi\,  Guide locali e/o accompagnatori ove previsti\,  Ns. Assistenza \,  Assicurazione a tutela del turista/viaggiatore (Centrale Operativa Ima Italia Assistance S.p.A. in funzione 24 ore su 24\, prestazioni di assistenza\, spese mediche\, garanzia bagaglio)\, assicurazione annullamento con copertura anticovid (include la garanzia annullamento viaggio\, rimborso spese mediche\, centrale operativa h24\, garanzia bagaglio\, rimborso quota viaggio). \n  \nLA QUOTA NON COMPRENDE: Pranzi\, Gli extra di natura personale\, Gli ingressi a siti e/o monumenti\,  Le mance\,  Tassa di soggiorno ove prevista\,  Tutto quanto non espressamente indicato alla voce “la quota comprende”\, supplemento camera singola intero periodo € 160. \n  \nFANTONI ASSOCIAZIONE CULTURALE |LA SPEZIA | GALLERIA ADAMELLO 31 | TEL. 01871780909 | CELL. 3405839502 \n
URL:https://fantoniweb.it/evento/ischia-capri-e-procida/
CATEGORIES:Eventi,Viaggi
ATTACH;FMTTYPE=image/png:https://fantoniweb.it/wp-content/uploads/2026/01/ISCHIA-CAPRI-PROCIDA.png
ORGANIZER;CN="Fantoni%20Associazione%20Culturale":MAILTO:direzione@fantoniweb.it
END:VEVENT
END:VCALENDAR