BEGIN:VCALENDAR
VERSION:2.0
PRODID:-//Circolo Fantoni - ECPv4.8.1//NONSGML v1.0//EN
CALSCALE:GREGORIAN
METHOD:PUBLISH
X-WR-CALNAME:Circolo Fantoni
X-ORIGINAL-URL:https://fantoniweb.it
X-WR-CALDESC:Eventi per Circolo Fantoni
BEGIN:VEVENT
DTSTART;TZID=UTC+1:20251203T080000
DTEND;TZID=UTC+1:20251205T233000
DTSTAMP:20260425T222337
CREATED:20250924T103357Z
LAST-MODIFIED:20250924T103357Z
UID:1470-1764748800-1764977400@fantoniweb.it
SUMMARY:Napoli & Pompei
DESCRIPTION:\n\n\n\n\n\n\n\n\n\n\n\n\n\n\n\n\n\n\n\n\n\n3 Dicembre:  Ritrovo dei partecipanti e partenza per Napoli con il treno da La Spezia Centrale alle ore 08.32. Arrivo a Napoli per le ore 12.29. Trasferimento in hotel. Nel pomeriggio tour dei misteri e delle leggende di Napoli. Conoscerete le credenze più radicate nella tradizione popolare napoletana e le sue superstizioni. Imperdibile! Ci ritroveremo in piazza del Gesù Nuovo e daremo inizio a un tour del centro storico di Napoli all’insegna del mistero. Spiritelli\, fate\, miracoli e leggende della cultura popolare napoletana ci attendono! Nel vivace centro storico di Napoli vedremo numerose bancarelle di amuleti che\, si dice\, attraggano il munaciello… Vi riveleremo chi è questo spiritello dispettoso e quali “poteri” abbia. Parleremo anche della Bella Mbriana\, uno spirito benevolo che aiuta a mantenere la serenità nelle famiglie. Percorrendo il centro della città\, ci imbatteremo nella chiesa di Santa Patrizia. Visiteremo questo santuario per contemplare la sua bellissima fontana barocca e i suoi alberi e\, dopo avervi parlato della storia della santa\, ci dirigeremo al Duomo di Napoli. Contemplando la facciata di questo tempio\, parleremo di San Gennaro\, il patrono della città. Sapevate che i suoi resti mortali possono prevedere catastrofi? Vi parleremo di questa credenza mentre visitiamo la Cappella. Concluderemo il tour ritornando al punto di partenza dopo due ore e mezza totali. Cena e serata libera. Pernottamento in hotel \n4 dicembre: Prima colazione in hotel e partenza per un tour a Pompei. Visita guidata degli scavi. Al rientro a Napoli\, pomeriggio a disposizione per visite individuali. Alle ore 19\, al Teatro San Carlo si potrà assistere al Concerto di Natale con il Coro del Teatro con sistemazione in platea. Cena e serata libera. Pernottamento in hotel. \n5 dicembre:  Prima colazione in hotel. Intera giornata a disposizione per visite individuali della città. Pranzo libero. Ritrovo in hotel nel tardo pomeriggio e trasferimento in stazione pere la partenza con il treno delle ore 17.31 con arrivo alla Spezia per le ore 23.52 \nQuota di partecipazione € 480 (soci) € 500 (ospiti) \nLa quota comprende: viaggio a/r in treno\, sistemazione in hotel in camera doppia con trattamento di pernottamento e prima colazione\, biglietto di platea per il Teatro\, escursione a Pompei con guida\, escursione a Napoli con guida\, ns. assistenza. \n\n\n\n\n\n\n\nInformazioni & Prenotazioni \nTel. 01871780909 – 3405839502\n\n\n\n\n\n\n\nLa quota non comprende: Sistemazione in camera singola (suppl. € 80)\, pasti e bevande. \n\n\n\n\n\n\n\n\n\n\n\n  \n  \n  \n
URL:https://fantoniweb.it/evento/napoli-pompei/
CATEGORIES:Viaggi
ATTACH;FMTTYPE=image/png:https://fantoniweb.it/wp-content/uploads/2025/09/Teatro-San-Carlo.png
ORGANIZER;CN="Fantoni%20Associazione%20Culturale":MAILTO:direzione@fantoniweb.it
END:VEVENT
END:VCALENDAR