BEGIN:VCALENDAR
VERSION:2.0
PRODID:-//Circolo Fantoni - ECPv4.8.1//NONSGML v1.0//EN
CALSCALE:GREGORIAN
METHOD:PUBLISH
X-WR-CALNAME:Circolo Fantoni
X-ORIGINAL-URL:https://fantoniweb.it
X-WR-CALDESC:Eventi per Circolo Fantoni
BEGIN:VEVENT
DTSTART;TZID=UTC+1:20250827T080000
DTEND;TZID=UTC+1:20250829T230000
DTSTAMP:20260426T041012
CREATED:20250607T131045Z
LAST-MODIFIED:20250607T131045Z
UID:1433-1756281600-1756508400@fantoniweb.it
SUMMARY:82° Festival del Cinema - Venezia
DESCRIPTION:
URL:https://fantoniweb.it/evento/82-festival-del-cinema-venezia/
CATEGORIES:Eventi,Viaggi
ORGANIZER;CN="Fantoni%20Associazione%20Culturale":MAILTO:direzione@fantoniweb.it
END:VEVENT
END:VCALENDAR