BEGIN:VCALENDAR
VERSION:2.0
PRODID:-//Circolo Fantoni - ECPv4.8.1//NONSGML v1.0//EN
CALSCALE:GREGORIAN
METHOD:PUBLISH
X-WR-CALNAME:Circolo Fantoni
X-ORIGINAL-URL:https://fantoniweb.it
X-WR-CALDESC:Eventi per Circolo Fantoni
BEGIN:VEVENT
DTSTART;TZID=UTC+1:20250802T080000
DTEND;TZID=UTC+1:20250803T203000
DTSTAMP:20260426T040843
CREATED:20250123T174623Z
LAST-MODIFIED:20250123T174623Z
UID:1275-1754121600-1754253000@fantoniweb.it
SUMMARY:ARENA DI VERONA - LA TRAVIATA
DESCRIPTION:Torna all’Arena di Verona “La Traviata”\, l’opera lirica più rappresentata al mondo\, nell’elegante produzione del 2011 di Hugo De Ana\, che omaggia la belle époque con sfarzose cornici\, specchi e arazzi. \n\n\nRegia\, scene\, costumi\, luci\nHugo De Ana \n\nCoreografia \nLeda Lojodice \nOrchestra\, Coro\, Ballo e Tecnici \nFondazione Arena di Verona \n\n\nMaestro del Coro \nRoberto Gabbiani \nCoordinatore del Ballo \nGaetano Petrosino \n\nDirettore allestimenti scenici \nMichele Olcese \n\n\n
URL:https://fantoniweb.it/evento/arena-di-verona-la-traviata/
CATEGORIES:Eventi,Viaggi
ATTACH;FMTTYPE=image/jpeg:https://fantoniweb.it/wp-content/uploads/2025/01/traviata_page-0001.jpg
ORGANIZER;CN="Fantoni%20Associazione%20Culturale":MAILTO:direzione@fantoniweb.it
END:VEVENT
END:VCALENDAR